BEGIN:VCALENDAR
VERSION:2.0
PRODID:-//Tukios.com/
BEGIN:VEVENT
UID:0f3fed44-6932-4c84-8611-f56fd43c37e0@www.lindquistmortuary.com
DTSTAMP:20260422T231054Z
DTSTART:20260424T060000Z
DTEND:20260424T070000Z
SUMMARY:Graveside Service
DESCRIPTION:
URL:https://www.lindquistmortuary.com/obituaries/winston-walker
LOCATION:Orderville Cemetery 74 Red Hollow Road  Orderville UT 84758
GEO:37.2722543;-112.6373708
END:VEVENT
END:VCALENDAR