BEGIN:VCALENDAR
VERSION:2.0
PRODID:-//Tukios.com/
BEGIN:VEVENT
UID:d6d47e0d-f96b-4de9-91a2-137baae3bffc@www.lindquistmortuary.com
DTSTAMP:20260423T210610Z
DTSTART:20260424T170000Z
DTEND:20260424T180000Z
SUMMARY:Graveside Service
DESCRIPTION:
URL:https://www.lindquistmortuary.com/obituaries/terry-roueche
LOCATION: 1718 Combe Rd  Ogden UT 84403
GEO:41.1623049;-111.9320929
END:VEVENT
END:VCALENDAR