BEGIN:VCALENDAR
VERSION:2.0
PRODID:-//Tukios.com/
BEGIN:VEVENT
UID:e292f169-8072-4638-881b-8241c6044301@www.lindquistmortuary.com
DTSTAMP:20260419T125258Z
DTSTART:20260417T211500Z
DTEND:20260417T214500Z
SUMMARY:Interment
DESCRIPTION:
URL:https://www.lindquistmortuary.com/obituaries/sonia-sierra
LOCATION: 1875 Monroe Blvd  Ogden UT 84401
GEO:41.2336859;-111.9590255
END:VEVENT
END:VCALENDAR