BEGIN:VCALENDAR
VERSION:2.0
PRODID:-//Tukios.com/
BEGIN:VEVENT
UID:5ef1502b-3917-4af5-b97b-a030154736de@www.lindquistmortuary.com
DTSTAMP:20260425T023307Z
DTSTART:20260428T170000Z
DTEND:20260428T180000Z
SUMMARY:Funeral Service
DESCRIPTION:
URL:https://www.lindquistmortuary.com/obituaries/marla-burton
LOCATION:Lindquist's Layton Mortuary 1867 N Fairfield Rd  Layton UT 84041
GEO:41.0864447;-111.9516995
END:VEVENT
END:VCALENDAR