BEGIN:VCALENDAR
VERSION:2.0
PRODID:-//Tukios.com/
BEGIN:VEVENT
UID:3c1a3994-c370-41db-bac4-59bca882a4b8@www.lindquistmortuary.com
DTSTAMP:20260425T022841Z
DTSTART:20260428T000000Z
DTEND:20260428T020000Z
SUMMARY:Viewing
DESCRIPTION:
URL:https://www.lindquistmortuary.com/obituaries/marla-burton
LOCATION:Lindquist's Layton Mortuary 1867 N Fairfield Rd  Layton UT 84041
GEO:41.0864447;-111.9516995
END:VEVENT
END:VCALENDAR