BEGIN:VCALENDAR
VERSION:2.0
PRODID:-//Tukios.com/
BEGIN:VEVENT
UID:b5cb4148-b644-41e8-b2d0-cdeea3b8df36@www.lindquistmortuary.com
DTSTAMP:20260424T222501Z
DTSTART:20260504T211500Z
DTEND:20260504T221500Z
SUMMARY:Interment
DESCRIPTION:
URL:https://www.lindquistmortuary.com/obituaries/lynley-dean
LOCATION: 526 E 2850 N  North Ogden UT 84414
GEO:41.3130335;-111.9647141
END:VEVENT
END:VCALENDAR