BEGIN:VCALENDAR
VERSION:2.0
PRODID:-//Tukios.com/
BEGIN:VEVENT
UID:78ee0232-837b-4a8a-b923-1fbc75a59c28@www.lindquistmortuary.com
DTSTAMP:20260424T222058Z
DTSTART:20260504T183000Z
DTEND:20260504T193000Z
SUMMARY:Visitation
DESCRIPTION:
URL:https://www.lindquistmortuary.com/obituaries/lynley-dean
LOCATION: 2140 N Washington Blvd  North Ogden UT 84414
GEO:41.2969777;-111.9689145
END:VEVENT
END:VCALENDAR