BEGIN:VCALENDAR
VERSION:2.0
PRODID:-//Tukios.com/
BEGIN:VEVENT
UID:c44a6440-d138-431e-b7bb-944dfd01bc0c@www.lindquistmortuary.com
DTSTAMP:20260424T222058Z
DTSTART:20260504T200000Z
DTEND:20260504T210000Z
SUMMARY:Funeral Service
DESCRIPTION:
URL:https://www.lindquistmortuary.com/obituaries/lynley-dean
LOCATION: 2140 N Washington Blvd  North Ogden UT 84414
GEO:41.2969777;-111.9689145
END:VEVENT
END:VCALENDAR