BEGIN:VCALENDAR
VERSION:2.0
PRODID:-//Tukios.com/
BEGIN:VEVENT
UID:86e4f45d-bf5c-405a-83a5-eb2846d71ee3@www.lindquistmortuary.com
DTSTAMP:20260424T222211Z
DTSTART:20260504T000000Z
DTEND:20260504T020000Z
SUMMARY:Visitation
DESCRIPTION:
URL:https://www.lindquistmortuary.com/obituaries/lynley-dean
LOCATION: 2140 N Washington Blvd  North Ogden UT 84414
GEO:41.2969777;-111.9689145
END:VEVENT
END:VCALENDAR