BEGIN:VCALENDAR
VERSION:2.0
PRODID:-//Tukios.com/
BEGIN:VEVENT
UID:ce886246-5c5b-4878-8b66-8e265eb21083@www.lindquistmortuary.com
DTSTAMP:20260423T233613Z
DTSTART:20260504T153000Z
DTEND:20260504T163000Z
SUMMARY:Visitation
DESCRIPTION:
URL:https://www.lindquistmortuary.com/obituaries/larry-robbins
LOCATION:1401 S. South Weber Dr 1401 S Weber Dr  South Weber UT 84405
GEO:41.1336151;-111.9433189
END:VEVENT
END:VCALENDAR