BEGIN:VCALENDAR
VERSION:2.0
PRODID:-//Tukios.com/
BEGIN:VEVENT
UID:82d7ec60-8a9e-4c03-9eab-891bbd75cba8@www.lindquistmortuary.com
DTSTAMP:20260423T234250Z
DTSTART:20260504T170000Z
DTEND:20260504T180000Z
SUMMARY:Funeral Service
DESCRIPTION:
URL:https://www.lindquistmortuary.com/obituaries/larry-robbins
LOCATION:Church of Jesus Christ of Latter-Day Saints 1401 S.  South Weber 
	Drive  South Weber UT 84405
GEO:41.1345728;-111.9503059
END:VEVENT
END:VCALENDAR