BEGIN:VCALENDAR
VERSION:2.0
PRODID:-//Tukios.com/
BEGIN:VEVENT
UID:99995f54-662d-49d4-9713-99851dbc429c@www.lindquistmortuary.com
DTSTAMP:20260424T002203Z
DTSTART:20260428T150000Z
DTEND:20260428T154500Z
SUMMARY:Visitation
DESCRIPTION:
URL:https://www.lindquistmortuary.com/obituaries/larry-naillon
LOCATION: 13112 S 700 E  Draper UT 84020
GEO:40.5138142;-111.8724755
END:VEVENT
END:VCALENDAR