BEGIN:VCALENDAR
VERSION:2.0
PRODID:-//Tukios.com/
BEGIN:VEVENT
UID:78186bdd-288d-4d83-81a0-62334cf3af6d@www.lindquistmortuary.com
DTSTAMP:20260424T002203Z
DTSTART:20260428T160000Z
DTEND:20260428T170000Z
SUMMARY:Visitation
DESCRIPTION:
URL:https://www.lindquistmortuary.com/obituaries/larry-naillon
LOCATION:Draper LDS Church 13112 S 700 E  Draper UT 84020
GEO:40.5138142;-111.8724755
END:VEVENT
END:VCALENDAR