BEGIN:VCALENDAR
VERSION:2.0
PRODID:-//Tukios.com/
BEGIN:VEVENT
UID:bb3a7000-1e82-4cda-93d4-32de9307f712@www.lindquistmortuary.com
DTSTAMP:20260422T220534Z
DTSTART:20260425T170000Z
DTEND:20260425T180000Z
SUMMARY:Interment
DESCRIPTION:
URL:https://www.lindquistmortuary.com/obituaries/josh-gillett
LOCATION:Ben Lomond Cemetery 526 E 2850 N  North Ogden UT 84414
GEO:41.3130335;-111.9647141
END:VEVENT
END:VCALENDAR