BEGIN:VCALENDAR
VERSION:2.0
PRODID:-//Tukios.com/
BEGIN:VEVENT
UID:2853af55-c91b-4570-9696-181ba85666d0@www.lindquistmortuary.com
DTSTAMP:20260422T220551Z
DTSTART:20260425T170000Z
DTEND:20260425T180000Z
SUMMARY:Funeral Service
DESCRIPTION:
URL:https://www.lindquistmortuary.com/obituaries/josh-gillett
LOCATION: 2975 North 1000 West  Pleasant View UT 84414
GEO:41.2883471;-111.9849459
END:VEVENT
END:VCALENDAR