BEGIN:VCALENDAR
VERSION:2.0
PRODID:-//Tukios.com/
BEGIN:VEVENT
UID:67edd488-ee46-452a-97c0-d363893fdef1@www.lindquistmortuary.com
DTSTAMP:20260421T183621Z
DTSTART:20260422T170000Z
DTEND:20260422T180000Z
SUMMARY:Funeral Service
DESCRIPTION:
URL:https://www.lindquistmortuary.com/obituaries/holly-faerber
LOCATION:Lindquist’s Kaysville Mortuary 400 North Main Street  
	Kaysville UT 84037
GEO:41.0416798;-111.9447853
END:VEVENT
END:VCALENDAR