BEGIN:VCALENDAR
VERSION:2.0
PRODID:-//Tukios.com/
BEGIN:VEVENT
UID:ff879423-fdfa-46b3-bfd2-4cb8353c5f1f@www.lindquistmortuary.com
DTSTAMP:20260421T184349Z
DTSTART:20260422T153000Z
DTEND:20260422T163000Z
SUMMARY:Visitation
DESCRIPTION:
URL:https://www.lindquistmortuary.com/obituaries/holly-faerber
LOCATION:Lindquist’s Kaysville Mortuary 400 North Main Street  
	Kaysville UT 84037
GEO:41.0416798;-111.9447853
END:VEVENT
END:VCALENDAR