BEGIN:VCALENDAR
VERSION:2.0
PRODID:-//Tukios.com/
BEGIN:VEVENT
UID:fe458151-fca5-455b-b377-3ca84d2bb298@www.lindquistmortuary.com
DTSTAMP:20260424T015251Z
DTSTART:20260425T200000Z
DTEND:20260425T210000Z
SUMMARY:Graveside Service
DESCRIPTION:
URL:https://www.lindquistmortuary.com/obituaries/galen-jensen
LOCATION: 1718 Combe Rd  Ogden UT 84403
GEO:41.1623049;-111.9320929
END:VEVENT
END:VCALENDAR