BEGIN:VCALENDAR
VERSION:2.0
PRODID:-//Tukios.com/
BEGIN:VEVENT
UID:778fd983-8df4-42b2-9397-601621bf62ee@www.lindquistmortuary.com
DTSTAMP:20260426T001339Z
DTSTART:20260502T180000Z
DTEND:20260502T200000Z
SUMMARY:Celebration of Life
DESCRIPTION:
URL:https://www.lindquistmortuary.com/obituaries/danielle-austin
LOCATION:Lomond View Nursery 304 West Pleasant View Drive  Pleasant View 
	UT 84414
GEO:41.3133732;-111.9828953
END:VEVENT
END:VCALENDAR