BEGIN:VCALENDAR
VERSION:2.0
PRODID:-//Tukios.com/
BEGIN:VEVENT
UID:37c4f024-4460-4d9c-a204-c3731b32fd77@www.lindquistmortuary.com
DTSTAMP:20260422T012948Z
DTSTART:20260425T170000Z
DTEND:20260425T190000Z
SUMMARY:Luncheon
DESCRIPTION:
URL:https://www.lindquistmortuary.com/obituaries/annette-hoskins
LOCATION: 3434 Washington Blvd  Ogden UT 84401
GEO:41.2008307;-111.9704549
END:VEVENT
END:VCALENDAR