BEGIN:VCALENDAR
VERSION:2.0
PRODID:-//Tukios.com/
BEGIN:VEVENT
UID:2388a2e1-b462-426c-a762-d3aa5215b145@www.lindquistmortuary.com
DTSTAMP:20260422T012349Z
DTSTART:20260425T160000Z
DTEND:20260425T170000Z
SUMMARY:Graveside Service
DESCRIPTION:
URL:https://www.lindquistmortuary.com/obituaries/annette-hoskins
LOCATION: 1718 Combe Rd  Ogden UT 84403
GEO:41.1623049;-111.9320929
END:VEVENT
END:VCALENDAR