BEGIN:VCALENDAR
VERSION:2.0
PRODID:-//Tukios.com/
BEGIN:VEVENT
UID:90a0221c-8d25-4471-bc2e-913279a8e974@www.lindquistmortuary.com
DTSTAMP:20260422T012312Z
DTSTART:20260425T143000Z
DTEND:20260425T153000Z
SUMMARY:Visitation
DESCRIPTION:
URL:https://www.lindquistmortuary.com/obituaries/annette-hoskins
LOCATION: 3333 W 5600 S  Roy UT 84067
GEO:41.1611863;-112.0595186
END:VEVENT
END:VCALENDAR