BEGIN:VCALENDAR
VERSION:2.0
PRODID:-//Tukios.com/
BEGIN:VEVENT
UID:89a12198-fba2-4dcf-8d31-e2cef3dd8cd8@www.lindquistmortuary.com
DTSTAMP:20260421T084019Z
DTSTART:20260304T013000Z
DTEND:20260304T023000Z
SUMMARY:Celebration of Life
DESCRIPTION:
URL:https://www.lindquistmortuary.com/obituaries/alexis-weiss
LOCATION:Salt Lake Masonic Temple 650 E. South Temple Street  Salt Lake 
	City UT 84102
GEO:40.7690111;-111.8723304
END:VEVENT
END:VCALENDAR